Workbook
Name cash_list: 'Budget Narrative'!$G$200:$G$201
Name match_list: 'Budget Narrative'!$G$200:$G$202
Name program_list: 'Budget Narrative'!$G$193:$G$195
Name sub: 'Budget Narrative'!$G$203:$G$204

Sheet EDA Disclaimer

Sheet Budget Narrative
E2: Period of Performance (months): | I2: Totals: | K2: Checkpoint: All Project Totals line up?
I3: Total Federal: | J3: =SUM(G17,I17,K17,G23,I23,K23,G31,I31,K31,G39,I39,K39,G44,I44,K44,G52,I52,K52,G65,I65,K65,'Staffing Plan'!H16,'Staffing Plan'!J16,'Staffing Plan'!L16, 'Staffing Plan'!H17, 'Staffing Plan'!J17, 'Staffing Plan'!L17) -> 0
I4: Total Match: | J4: =SUM(H17,J17,L17,H23,J23,L23,H31,J31,L31,H39,J39,L39,H44,J44,L44,H52,J52,L52,H65,J65,L65, 'Staffing Plan'!I16,'Staffing Plan'!K16,'Staffing Plan'!M16,'Staffing Plan'!I17,'Staffing Plan'!K17,'Staffing Plan'!M17) -> 0 | K4: =IF(SUM(J3:J4)=SUM(F6,F9,F17,F23,F31,F39,F44,F52,F59,F65), "Yes", "No") -> Yes
B5: Personnel - Cost as shown on the Staffing Plan. This will autofill from what is entered on the Staffing Plan tab. | K5: Checkpoint: Match totals line up?
B6: Total Personnel Costs | F6: ='Staffing Plan'!G16 -> 0 | K6: =IF(J4=F59,"Yes","No") -> Yes
B8: Fringe - Associated fringe costs for the personnel listed in the staffing plan. This will autofill from what is entered on the Staffing Plan tab. | G8: Additional Details
B9: Total Fringe Costs | F9: ='Staffing Plan'!G17 -> 0 | G9: Please include a yearly breakdown for federal, and non-federal (matching) share for each line item.
B11: Travel - Requirements for travel costs can be found in 2 CFR 200.475. | G11: Year 1 | I11: Year 2 | K11: Year 3
B12: Event | C12: Travelers | D12: Purpose | E12: Program Component | F12: Cost | G12: Federal Share | H12: Non-Federal Share | I12: Federal Share | J12: Non-Federal Share | K12: Federal Share | L12: Non-Federal Share
E13: Program Implementation | F13: =SUM(G13:L13) -> 0
F14: =SUM(G14:L14) -> 0
F15: =SUM(G15:L15) -> 0
F16: =SUM(G16:L16) -> 0
B17: Total Travel Costs | F17: =SUM(F13:F16) -> 0 | G17: =SUM(G13:G16) -> 0 | H17: =SUM(H13:H16) -> 0 | I17: =SUM(I13:I16) -> 0 | J17: =SUM(J13:J16) -> 0 | K17: =SUM(K13:K16) -> 0 | L17: =SUM(L13:L16) -> 0
B19: Equipment - Typically exceeds $5000 per unit cost and has a useful life greater than 1 year. See the definition of equipment at 2 CFR 200.1. | G19: Year 1 | I19: Year 2 | K19: Year 3
B20: Equipment | C20: Cost per Unit & Quantity | D20: Purpose | E20: Program Component | F20: Cost | G20: Federal Share | H20: Non-Federal Share | I20: Federal Share | J20: Non-Federal Share | K20: Federal Share | L20: Non-Federal Share
F21: =SUM(G21:L21) -> 0
F22: =SUM(G22:L22) -> 0
B23: Total Equipment Costs | F23: =SUM(F21:F22) -> 0 | G23: =SUM(G21:G22) -> 0 | H23: =SUM(H21:H22) -> 0 | I23: =SUM(I21:I22) -> 0 | J23: =SUM(J21:J22) -> 0 | K23: =SUM(K21:K22) -> 0 | L23: =SUM(L21:L22) -> 0
B25: Supplies - Supplies must be itemized and must correlate to the purpose of the award. Miscellaneous is not sufficient. See the definition of supplies at 2 CFR 200.1. | G25: Year 1 | I25: Year 2 | K25: Year 3
B26: Supply | C26: Cost per Unit & Quantity | D26: Purpose | E26: Program Component | F26: Cost | G26: Federal Share | H26: Non-Federal Share | I26: Federal Share | J26: Non-Federal Share | K26: Federal Share | L26: Non-Federal Share
F27: =SUM(G27:L27) -> 0
F28: =SUM(G28:L28) -> 0
F29: =SUM(G29:L29) -> 0
F30: =SUM(G30:L30) -> 0
B31: Total Supply Costs | F31: =SUM(F27:F30) -> 0 | G31: =SUM(G27:G30) -> 0 | H31: =SUM(H27:H30) -> 0 | I31: =SUM(I27:I30) -> 0 | J31: =SUM(J27:J30) -> 0 | K31: =SUM(K27:K30) -> 0 | L31: =SUM(L27:L30) -> 0
B33: Contractual - Contractors are subject to procurement standards in 2 CFR 200.317 - 200.327. All Subawards to eligible recipients should be noted under this line item as well. Please denote in the second column if this line item applies to a "subaward" or "contractor". For guidance on these two distinct roles, see 2 CFR 200.331. (Please note, this section will not autopopulate from the subawardees tab, but please also fill out the subawardees time for subawards - not for contractual). | G33: Year 1 | I33: Year 2 | K33: Year 3
B34: Organization Name (if applicable) | C34: Subaward or Contractor? | D34: Details of services being provided | E34: Program Component | F34: Cost | G34: Federal Share | H34: Non-Federal Share | I34: Federal Share | J34: Non-Federal Share | K34: Federal Share | L34: Non-Federal Share
F35: =SUM(G35:L35) -> 0
C36: Subaward | F36: =SUM(G36:L36) -> 0
C37: Subaward | F37: =SUM(G37:L37) -> 0
F38: =SUM(G38:L38) -> 0
B39: Total Contractual Costs | F39: =SUM(F35:F38) -> 0 | G39: =SUM(G35:G38) -> 0 | H39: =SUM(H35:H38) -> 0 | I39: =SUM(I35:I38) -> 0 | J39: =SUM(J35:J38) -> 0 | K39: =SUM(K35:K38) -> 0 | L39: =SUM(L35:L38) -> 0
B41: Construction - Not an allowable expense under the Good Jobs Challenge NOFO. Please see other EDA funding opportunities for construction-related expenses. | G41: Year 1 | I41: Year 2 | K41: Year 3
B42: Construction | C42: Quantity | D42: Purpose | E42: Program Component | F42: Cost | G42: Federal Share | H42: Non-Federal Share | I42: Federal Share | J42: Non-Federal Share | K42: Federal Share | L42: Non-Federal Share
C43: N/A | D43: N/A | F43: =SUM(G43:L43) -> 0
B44: Total Construction Costs | F44: =SUM(F43:F43) -> 0 | G44: =SUM(G43) -> 0 | H44: =SUM(H43) -> 0 | I44: =SUM(I43) -> 0 | J44: =SUM(J43) -> 0 | K44: =SUM(K43) -> 0 | L44: =SUM(L43) -> 0
B46: Other - any other costs that do not fit in previous categories. | G46: Year 1 | I46: Year 2 | K46: Year 3
B47: Other | C47: Quantity | D47: Purpose | E47: Program Component | F47: Cost | G47: Federal Share | H47: Non-Federal Share | I47: Federal Share | J47: Non-Federal Share | K47: Federal Share | L47: Non-Federal Share
F48: =SUM(G48:L48) -> 0
...

Sheet Staffing Plan
B6: AUTHORIZED STAFFING PLAN
B8: Staffing Plan - Budget | H8: Year 1 | J8: Year 2 | L8: Year 3 | N8: Checkpoint
B9: Name | C9: Annual Salary/Rate | D9: % of Annual Hours for project | E9: Annual $ from Award | F9: Number of Years | G9: Total Cost by Employee | H9: Federal Share | I9: Non-Federal Share | J9: Federal Share | K9: Non-Federal Share | L9: Federal Share | M9: Non-Federal Share | N9: Does breakdown match your total?
B10: Employee 1 | C10: 0 | D10: 0 | E10: =C10*D10 -> 0 | F10: 0 | G10: =E10*F10 -> 0 | N10: =SUM(H10:M10) -> 0
B11: Employee 2 | C11: 0 | D11: 0 | E11: =C11*D11 -> 0 | F11: 0 | G11: 0 | N11: =SUM(H11:M11) -> 0
B12: Employee 3 | C12: 0 | D12: 0 | E12: =C12*D12 -> 0 | F12: 0 | G12: =E12*F12 -> 0 | N12: =SUM(H12:M12) -> 0
B13: Employee 4 | C13: 0 | D13: 0 | E13: =C13*D13 -> 0 | F13: 0 | G13: =E13*F13 -> 0 | N13: =SUM(H13:M13) -> 0
B14: Employee 5 | C14: 0 | D14: 0 | E14: =C14*D14 -> 0 | F14: 0 | G14: =E14*F14 -> 0 | N14: =SUM(H14:M14) -> 0
B15: Employee 6 | C15: 0 | D15: 0 | E15: =C15*D15 -> 0 | F15: 0 | G15: =E15*F15 -> 0 | N15: =SUM(H15:M15) -> 0
B16: Total Personnel Costs | G16: =SUM(G10:G15) -> 0 | H16: =SUM(H10:H15) -> 0 | I16: =SUM(I10:I15) -> 0 | J16: =SUM(J10:J15) -> 0 | K16: =SUM(K10:K15) -> 0 | L16: =SUM(L10:L15) -> 0 | M16: =SUM(M10:M15) -> 0 | N16: =SUM(H16:M16) -> 0
B17: Total Fringe Costs (Please Provide the Basis for Fringe Calculations) | F17: 0 | G17: =G16*F17 -> 0 | H17: =$F$17*H16 -> 0 | I17: =$F$17*I16 -> 0 | J17: =$F$17*J16 -> 0 | K17: =$F$17*K16 -> 0 | L17: =$F$17*L16 -> 0 | M17: =$F$17*M16 -> 0 | N17: =SUM(H17:M17) -> 0
B20: Staffing Plan - Narrative
B21: Name | C21: Title | D21: Project Responsibilities
B22: Employee 1
B23: Employee 2
B24: Employee 3

Sheet Subawardees
B4: Subawardee #1 Name | G4: Subawardee #2 Name | L4: Subawardee #3 Name | Q4: Subawardee #4 Name
B5: Organization entity type | C5: Total | D5: Federal | E5: Match | G5: Organization entity type | H5: Total | I5: Federal | J5: Match | L5: Organization entity type | M5: Total | N5: Federal | O5: Match | Q5: Organization entity type | R5: Total | S5: Federal | T5: Match
B6: Personnel | C6: =SUM(D6:E6) -> 0 | G6: Personnel | H6: =SUM(I6:J6) -> 0 | L6: Personnel | M6: =SUM(N6:O6) -> 0 | Q6: Personnel | R6: =SUM(S6:T6) -> 0
B7: Fringe Benefits | C7: =SUM(D7:E7) -> 0 | G7: Fringe Benefits | H7: =SUM(I7:J7) -> 0 | L7: Fringe Benefits | M7: =SUM(N7:O7) -> 0 | Q7: Fringe Benefits | R7: =SUM(S7:T7) -> 0
B8: Travel | C8: =SUM(D8:E8) -> 0 | G8: Travel | H8: =SUM(I8:J8) -> 0 | L8: Travel | M8: =SUM(N8:O8) -> 0 | Q8: Travel | R8: =SUM(S8:T8) -> 0
B9: Equipment | C9: =SUM(D9:E9) -> 0 | G9: Equipment | H9: =SUM(I9:J9) -> 0 | L9: Equipment | M9: =SUM(N9:O9) -> 0 | Q9: Equipment | R9: =SUM(S9:T9) -> 0
B10: Supplies | C10: =SUM(D10:E10) -> 0 | G10: Supplies | H10: =SUM(I10:J10) -> 0 | L10: Supplies | M10: =SUM(N10:O10) -> 0 | Q10: Supplies | R10: =SUM(S10:T10) -> 0
B11: Contractual | C11: =SUM(D11:E11) -> 0 | G11: Contractual | H11: =SUM(I11:J11) -> 0 | L11: Contractual | M11: =SUM(N11:O11) -> 0 | Q11: Contractual | R11: =SUM(S11:T11) -> 0
B12: Construction (N/A) | C12: =SUM(D12:E12) -> 0 | D12: 0 | E12: 0 | G12: Construction (N/A) | H12: =SUM(I12:J12) -> 0 | I12: 0 | J12: 0 | L12: Construction (N/A) | M12: =SUM(N12:O12) -> 0 | N12: 0 | O12: 0 | Q12: Construction (N/A) | R12: =SUM(S12:T12) -> 0 | S12: 0 | T12: 0
B13: Other | C13: =SUM(D13:E13) -> 0 | G13: Other | H13: =SUM(I13:J13) -> 0 | L13: Other | M13: =SUM(N13:O13) -> 0 | Q13: Other | R13: =SUM(S13:T13) -> 0
B14: Total Direct Charges | C14: =SUM(C6:C13) -> 0 | D14: =SUM(D6:D13) -> 0 | E14: =SUM(E6:E13) -> 0 | G14: Total Direct Charges | H14: =SUM(H6:H13) -> 0 | I14: =SUM(I6:I13) -> 0 | J14: =SUM(J6:J13) -> 0 | L14: Total Direct Charges | M14: =SUM(M6:M13) -> 0 | N14: =SUM(N6:N13) -> 0 | O14: =SUM(O6:O13) -> 0 | Q14: Total Direct Charges | R14: =SUM(R6:R13) -> 0 | S14: =SUM(S6:S13) -> 0 | T14: =SUM(T6:T13) -> 0
B15: Indirect Charges | C15: 0 | D15: 0 | E15: 0 | G15: Indirect Charges | H15: 0 | I15: 0 | J15: 0 | L15: Indirect Charges | M15: 0 | N15: 0 | O15: 0 | Q15: Indirect Charges | R15: 0 | S15: 0 | T15: 0
B16: Total Subaward | C16: =SUM(C14:C15) -> 0 | D16: =SUM(D14:D15) -> 0 | E16: =SUM(E14:E15) -> 0 | G16: Total Subaward | H16: =SUM(H14:H15) -> 0 | I16: =SUM(I14:I15) -> 0 | J16: =SUM(J14:J15) -> 0 | L16: Total Subaward | M16: =SUM(M14:M15) -> 0 | N16: =SUM(N14:N15) -> 0 | O16: =SUM(O14:O15) -> 0 | Q16: Total Subaward | R16: =SUM(R14:R15) -> 0 | S16: =SUM(S14:S15) -> 0 | T16: =SUM(T14:T15) -> 0
B18: Subawardee #1 Staffing Plan | G18: Subawardee #2 Staffing Plan | L18: Subawardee #3 Staffing Plan | Q18: Subawardee #4 Staffing Plan
B19: Name/Title of Employee | C19: Responsbilities | D19: Cost | G19: Name/Title | H19: Responsbilities | I19: Cost | L19: Name/Title | M19: Responsbilities | N19: Cost | Q19: Name/Title | R19: Responsbilities | S19: Cost

Sheet Budget Overview
C5: Authorized Budget
C6: Column E should match the SF-424A form (total budget). Line Item Budget will autopopulate from Budget Narrative tab.
C8: Total Project Budget | G8: Additional Details
C9: Federal Share (EDA grant funded) | D9: ='Budget Narrative'!J3 -> 0 | G9: This table will autopopulate from the Budget Narrative Tab. Please fill out all other tabs.
C10: Non-Federal (Matching) Share | D10: ='Budget Narrative'!J4 -> 0
C11: Total Project Budget | D11: =D9+D10 -> 0
C12: Federal Grant Rate | D12: =D9/D11 -> #DIV/0!
G13: Year 1 | I13: Year 2 | K13: Year 3
C14: Line Item Budget | G14: Federal Share | H14: Non-Federal Share | I14: Federal Share | J14: Non-Federal Share | K14: Federal Share | L14: Non-Federal Share
C15: Personnel | D15: ='Budget Narrative'!F6 -> 0 | G15: ='Staffing Plan'!H16 -> 0 | H15: ='Staffing Plan'!I16 -> 0 | I15: ='Staffing Plan'!J16 -> 0 | J15: ='Staffing Plan'!K16 -> 0 | K15: ='Staffing Plan'!L16 -> 0 | L15: ='Staffing Plan'!M16 -> 0
C16: Fringe Benefits | D16: ='Budget Narrative'!F9 -> 0 | G16: ='Staffing Plan'!H11 -> 0 | H16: ='Staffing Plan'!I11 -> 0 | I16: ='Staffing Plan'!J11 -> 0 | J16: ='Staffing Plan'!K11 -> 0 | K16: ='Staffing Plan'!L11 -> 0 | L16: ='Staffing Plan'!M11 -> 0
C17: Travel | D17: ='Budget Narrative'!F17 -> 0 | G17: ='Budget Narrative'!G17 -> 0 | H17: ='Budget Narrative'!H17 -> 0 | I17: ='Budget Narrative'!I17 -> 0 | J17: ='Budget Narrative'!J17 -> 0 | K17: ='Budget Narrative'!K17 -> 0 | L17: ='Budget Narrative'!L17 -> 0
C18: Equipment | D18: ='Budget Narrative'!F23 -> 0 | G18: ='Budget Narrative'!G23 -> 0 | H18: ='Budget Narrative'!H23 -> 0 | I18: ='Budget Narrative'!I23 -> 0 | J18: ='Budget Narrative'!J23 -> 0 | K18: ='Budget Narrative'!K23 -> 0 | L18: ='Budget Narrative'!L23 -> 0
C19: Supplies | D19: ='Budget Narrative'!F31 -> 0 | G19: ='Budget Narrative'!G31 -> 0 | H19: ='Budget Narrative'!H31 -> 0 | I19: ='Budget Narrative'!I31 -> 0 | J19: ='Budget Narrative'!J31 -> 0 | K19: ='Budget Narrative'!K31 -> 0 | L19: ='Budget Narrative'!L31 -> 0
C20: Contractual | D20: ='Budget Narrative'!F39 -> 0 | G20: ='Budget Narrative'!G39 -> 0 | H20: ='Budget Narrative'!H39 -> 0 | I20: ='Budget Narrative'!I39 -> 0 | J20: ='Budget Narrative'!J39 -> 0 | K20: ='Budget Narrative'!K39 -> 0 | L20: ='Budget Narrative'!L39 -> 0
C21: Construction | D21: 0 | G21: ='Budget Narrative'!G44 -> 0 | H21: ='Budget Narrative'!H44 -> 0 | I21: ='Budget Narrative'!I44 -> 0 | J21: ='Budget Narrative'!J44 -> 0 | K21: ='Budget Narrative'!K44 -> 0 | L21: ='Budget Narrative'!L44 -> 0
C22: Other | D22: ='Budget Narrative'!F52 -> 0 | G22: ='Budget Narrative'!G52 -> 0 | H22: ='Budget Narrative'!H52 -> 0 | I22: ='Budget Narrative'!I52 -> 0 | J22: ='Budget Narrative'!J52 -> 0 | K22: ='Budget Narrative'!K52 -> 0 | L22: ='Budget Narrative'!L52 -> 0
C23: Total Direct Charges | D23: =SUM(D15:D22) -> 0 | G23: =SUM(G15:G22) -> 0 | H23: =SUM(H15:H22) -> 0 | I23: =SUM(I15:I22) -> 0 | J23: =SUM(J15:J22) -> 0 | K23: =SUM(K15:K22) -> 0 | L23: =SUM(L15:L22) -> 0
C24: Indirect Charges | D24: ='Budget Narrative'!F65 -> 0 | G24: ='Budget Narrative'!G65 -> 0 | H24: ='Budget Narrative'!H65 -> 0 | I24: ='Budget Narrative'!I65 -> 0 | J24: ='Budget Narrative'!J65 -> 0 | K24: ='Budget Narrative'!K65 -> 0 | L24: ='Budget Narrative'!L65 -> 0
C25: Total Project Budget | D25: =SUM(D23:D24) -> 0 | G25: =SUM(G23:G24) -> 0 | H25: =SUM(H23:H24) -> 0 | I25: =SUM(I23:I24) -> 0 | J25: =SUM(J23:J24) -> 0 | K25: =SUM(K23:K24) -> 0 | L25: =SUM(L23:L24) -> 0
